BEGIN:VCALENDAR
PRODID:-//Microsoft Corporation//Outlook 16.0 MIMEDIR//EN
VERSION:2.0
METHOD:REQUEST
X-MS-OLK-FORCEINSPECTOROPEN:TRUE
BEGIN:VTIMEZONE
TZID:GMT Standard Time
BEGIN:STANDARD
DTSTART:16011028T020000
RRULE:FREQ=YEARLY;BYDAY=-1SU;BYMONTH=10
TZOFFSETFROM:+0100
TZOFFSETTO:-0000
END:STANDARD
BEGIN:DAYLIGHT
DTSTART:16010325T010000
RRULE:FREQ=YEARLY;BYDAY=-1SU;BYMONTH=3
TZOFFSETFROM:-0000
TZOFFSETTO:+0100
END:DAYLIGHT
END:VTIMEZONE
BEGIN:VEVENT
ATTENDEE;CN="CUK SOU FL0 Rotterdam";CUTYPE=RESOURCE;ROLE=NON-PARTICIPANT;RS
	VP=TRUE:mailto:CUK-MR-SOU-FL0-Rotterdam@carnivalukgroup.com
CLASS:PUBLIC
CREATED:20230707T050558Z
DESCRIPTION:We're screening videos of non-binary lived experiences and invi
	te you to join Athena and Spectrum network members to learn more about non
	-binary people. There's free cupcakes too!\n\n____________________________
	____________________________________________________ \n\nMicrosoft Teams m
	eeting \n\nJoin on your computer\, mobile app or room device \n\nClick her
	e to join the meeting <https://teams.microsoft.com/l/meetup-join/19%3ameet
	ing_NGQ3MjYzNjQtMzk4NS00NjM4LTlhZTItODg5YTg2ODdiM2Mw%40thread.v2/0?context
	=%7b%22Tid%22%3a%229e37b9e9-05de-4906-b089-536f19689074%22%2c%22Oid%22%3a%
	220cf23d20-f88d-4f80-8be1-41f9d955742f%22%7d>  \n\nMeeting ID: 287 774 317
	 74 \nPasscode: PBQ2KK \n\nDownload Teams <https://www.microsoft.com/en-us
	/microsoft-teams/download-app>  | Join on the web <https://www.microsoft.c
	om/microsoft-teams/join-a-meeting> \n\nOr call in (audio only) \n\n+44 23 
	8212 8703\,\,614133035# <tel:+442382128703\,\,614133035#>  \n\n  United Ki
	ngdom\, Southampton \n\nPhone Conference ID: 614 133 035# \n\nFind a local
	 number <https://dialin.teams.microsoft.com/a14e03f1-0702-44c4-b5d2-06dd54
	c130b9?id=614133035>  | Reset PIN <https://dialin.teams.microsoft.com/usp/
	pstnconferencing>  \n\nLearn More <https://aka.ms/JoinTeamsMeeting>  | Mee
	ting options <https://teams.microsoft.com/meetingOptions/?organizerId=0cf2
	3d20-f88d-4f80-8be1-41f9d955742f&tenantId=9e37b9e9-05de-4906-b089-536f1968
	9074&threadId=19_meeting_NGQ3MjYzNjQtMzk4NS00NjM4LTlhZTItODg5YTg2ODdiM2Mw@
	thread.v2&messageId=0&language=en-US>  \n\n_______________________________
	_________________________________________________ \n\n \n\n
DTEND;TZID="GMT Standard Time":20230712T130000
DTSTAMP:20230707T050533Z
DTSTART;TZID="GMT Standard Time":20230712T120000
LAST-MODIFIED:20230707T050558Z
LOCATION:Microsoft Teams Meeting\; CUK SOU FL0 Rotterdam
ORGANIZER;CN="Kate Johnston":mailto:Kate.Johnston@carnivalukgroup.com
PRIORITY:5
SEQUENCE:1
SUMMARY;LANGUAGE=en-gb:Non-Binary People's Day\, employee-led networks even
	t
TRANSP:OPAQUE
UID:040000008200E00074C5B7101A82E00800000000806DFCA6C6A9D901000000000000000
	010000000AD67563527FF9B41BE59039FD4B66B48
X-ALT-DESC;FMTTYPE=text/html:<html xmlns:v="urn:schemas-microsoft-com:vml" 
	xmlns:o="urn:schemas-microsoft-com:office:office" xmlns:w="urn:schemas-mic
	rosoft-com:office:word" xmlns:m="http://schemas.microsoft.com/office/2004/
	12/omml" xmlns="http://www.w3.org/TR/REC-html40"><head><meta name=Generato
	r content="Microsoft Word 15 (filtered medium)"><style><!--\n/* Font Defin
	itions */\n@font-face\n	{font-family:"Cambria Math"\;\n	panose-1:2 4 5 3 5
	 4 6 3 2 4\;}\n@font-face\n	{font-family:Calibri\;\n	panose-1:2 15 5 2 2 2
	 4 3 2 4\;}\n@font-face\n	{font-family:"Segoe UI"\;\n	panose-1:2 11 5 2 4 
	2 4 2 2 3\;}\n@font-face\n	{font-family:"Segoe UI Semibold"\;\n	panose-1:2
	 11 7 2 4 2 4 2 2 3\;}\n/* Style Definitions */\np.MsoNormal\, li.MsoNorma
	l\, div.MsoNormal\n	{margin:0cm\;\n	font-size:11.0pt\;\n	font-family:"Cali
	bri"\,sans-serif\;\n	mso-fareast-language:EN-US\;}\na:link\, span.MsoHyper
	link\n	{mso-style-priority:99\;\n	color:#0563C1\;\n	text-decoration:underl
	ine\;}\nspan.EmailStyle18\n	{mso-style-type:personal-compose\;\n	font-fami
	ly:"Calibri"\,sans-serif\;\n	color:windowtext\;}\n.MsoChpDefault\n	{mso-st
	yle-type:export-only\;\n	font-size:10.0pt\;}\n@page WordSection1\n	{size:6
	12.0pt 792.0pt\;\n	margin:72.0pt 72.0pt 72.0pt 72.0pt\;}\ndiv.WordSection1
	\n	{page:WordSection1\;}\n--></style><!--[if gte mso 9]><xml>\n<o:shapedef
	aults v:ext="edit" spidmax="1026" />\n</xml><![endif]--><!--[if gte mso 9]
	><xml>\n<o:shapelayout v:ext="edit">\n<o:idmap v:ext="edit" data="1" />\n<
	/o:shapelayout></xml><![endif]--></head><body lang=EN-GB link="#0563C1" vl
	ink="#954F72" style='word-wrap:break-word'><div class=WordSection1><p clas
	s=MsoNormal style='mso-margin-top-alt:auto\;mso-margin-bottom-alt:auto'><s
	pan style='mso-fareast-language:EN-GB'>We're screening videos of non-binar
	y lived experiences and invite you to join Athena and Spectrum network mem
	bers to learn more about non-binary people. There's free cupcakes too!<o:p
	></o:p></span></p><div><p class=MsoNormal><span style='color:#5F5F5F'>____
	__________________________________________________________________________
	__</span> <o:p></o:p></p></div><div><div style='margin-top:18.0pt\;margin-
	bottom:15.0pt'><p class=MsoNormal><span lang=EN-US style='font-size:18.0pt
	\;font-family:"Segoe UI"\,sans-serif\;color:#252424'>Microsoft Teams meeti
	ng</span><span lang=EN-US style='font-family:"Segoe UI"\,sans-serif\;color
	:#252424'> <o:p></o:p></span></p></div><div style='margin-bottom:15.0pt'><
	div><p class=MsoNormal><b><span lang=EN-US style='font-size:10.5pt\;font-f
	amily:"Segoe UI"\,sans-serif\;color:#252424'>Join on your computer\, mobil
	e app or room device</span></b><b><span lang=EN-US style='font-family:"Seg
	oe UI"\,sans-serif\;color:#252424'> <o:p></o:p></span></b></p></div><p cla
	ss=MsoNormal><span lang=EN-US style='font-family:"Segoe UI"\,sans-serif\;c
	olor:#252424'><a href="https://teams.microsoft.com/l/meetup-join/19%3ameet
	ing_NGQ3MjYzNjQtMzk4NS00NjM4LTlhZTItODg5YTg2ODdiM2Mw%40thread.v2/0?context
	=%7b%22Tid%22%3a%229e37b9e9-05de-4906-b089-536f19689074%22%2c%22Oid%22%3a%
	220cf23d20-f88d-4f80-8be1-41f9d955742f%22%7d" target="_blank"><span style=
	'font-size:10.5pt\;font-family:"Segoe UI Semibold"\,sans-serif\;color:#626
	4A7'>Click here to join the meeting</span></a> <o:p></o:p></span></p></div
	><div style='margin-top:15.0pt\;margin-bottom:15.0pt'><div style='margin-b
	ottom:3.0pt'><p class=MsoNormal><span lang=EN-US style='font-size:10.5pt\;
	font-family:"Segoe UI"\,sans-serif\;color:#252424'>Meeting ID: </span><spa
	n lang=EN-US style='font-size:12.0pt\;font-family:"Segoe UI"\,sans-serif\;
	color:#252424'>287 774 317 74</span><span lang=EN-US style='font-size:10.5
	pt\;font-family:"Segoe UI"\,sans-serif\;color:#252424'> </span><span lang=
	EN-US style='font-family:"Segoe UI"\,sans-serif\;color:#252424'><br></span
	><span lang=EN-US style='font-size:10.5pt\;font-family:"Segoe UI"\,sans-se
	rif\;color:#252424'>Passcode: </span><span lang=EN-US style='font-size:12.
	0pt\;font-family:"Segoe UI"\,sans-serif\;color:#252424'>PBQ2KK </span><spa
	n lang=EN-US style='font-family:"Segoe UI"\,sans-serif\;color:#252424'><o:
	p></o:p></span></p><div><p class=MsoNormal><span lang=EN-US style='font-si
	ze:10.5pt\;font-family:"Segoe UI"\,sans-serif\;color:#252424'><a href="htt
	ps://www.microsoft.com/en-us/microsoft-teams/download-app" target="_blank"
	><span style='color:#6264A7'>Download Teams</span></a> | <a href="https://
	www.microsoft.com/microsoft-teams/join-a-meeting" target="_blank"><span st
	yle='color:#6264A7'>Join on the web</span></a><o:p></o:p></span></p></div>
	</div></div><div style='margin-bottom:3.0pt'><div style='margin-bottom:3.0
	pt'><p class=MsoNormal><b><span lang=EN-US style='font-size:10.5pt\;font-f
	amily:"Segoe UI"\,sans-serif\;color:#252424'>Or call in (audio only)</span
	></b><span lang=EN-US style='font-family:"Segoe UI"\,sans-serif\;color:#25
	2424'> <o:p></o:p></span></p></div><table class=MsoNormalTable border=0 ce
	llspacing=3 cellpadding=0><tr><td style='padding:.75pt .75pt .75pt .75pt'>
	<p class=MsoNormal><a href="tel:+442382128703\,\,614133035# "><span style=
	'font-size:10.5pt\;font-family:"Segoe UI"\,sans-serif\;color:#6264A7'>+44 
	23 8212 8703\,\,614133035#</span></a> <o:p></o:p></p></td><td style='paddi
	ng:.75pt .75pt .75pt .75pt'><p class=MsoNormal><span style='font-size:10.5
	pt\;font-family:"Segoe UI"\,sans-serif\;color:#252424'>&nbsp\; United King
	dom\, Southampton </span><o:p></o:p></p></td></tr></table></div><p class=M
	soNormal><span lang=EN-US style='font-size:10.5pt\;font-family:"Segoe UI"\
	,sans-serif\;color:#252424'>Phone Conference ID: </span><span lang=EN-US s
	tyle='font-size:12.0pt\;font-family:"Segoe UI"\,sans-serif\;color:#252424'
	>614 133 035# </span><span lang=EN-US style='font-family:"Segoe UI"\,sans-
	serif\;color:#252424'><o:p></o:p></span></p><div style='margin-bottom:15.0
	pt'><p class=MsoNormal><span lang=EN-US style='font-family:"Segoe UI"\,san
	s-serif\;color:#252424'><a href="https://dialin.teams.microsoft.com/a14e03
	f1-0702-44c4-b5d2-06dd54c130b9?id=614133035" target="_blank"><span style='
	font-size:10.5pt\;color:#6264A7'>Find a local number</span></a> | <a href=
	"https://dialin.teams.microsoft.com/usp/pstnconferencing" target="_blank">
	<span style='font-size:10.5pt\;color:#6264A7'>Reset PIN</span></a> <o:p></
	o:p></span></p></div><div style='margin-top:15.0pt\;margin-bottom:18.0pt'>
	<p class=MsoNormal><span lang=EN-US style='font-family:"Segoe UI"\,sans-se
	rif\;color:#252424'><a href="https://aka.ms/JoinTeamsMeeting" target="_bla
	nk"><span style='font-size:10.5pt\;color:#6264A7'>Learn More</span></a> | 
	<a href="https://teams.microsoft.com/meetingOptions/?organizerId=0cf23d20-
	f88d-4f80-8be1-41f9d955742f&amp\;tenantId=9e37b9e9-05de-4906-b089-536f1968
	9074&amp\;threadId=19_meeting_NGQ3MjYzNjQtMzk4NS00NjM4LTlhZTItODg5YTg2ODdi
	M2Mw@thread.v2&amp\;messageId=0&amp\;language=en-US" target="_blank"><span
	 style='font-size:10.5pt\;color:#6264A7'>Meeting options</span></a> <o:p><
	/o:p></span></p></div></div><div><p class=MsoNormal><span style='color:#5F
	5F5F'>____________________________________________________________________
	____________</span> <o:p></o:p></p></div><p class=MsoNormal><o:p>&nbsp\;</
	o:p></p></div></body></html>
X-MICROSOFT-CDO-BUSYSTATUS:BUSY
X-MICROSOFT-CDO-IMPORTANCE:1
X-MICROSOFT-DISALLOW-COUNTER:FALSE
X-MS-OLK-APPTLASTSEQUENCE:1
X-MS-OLK-APPTSEQTIME:20230707T050533Z
X-MS-OLK-AUTOFILLLOCATION:FALSE
X-MS-OLK-CONFTYPE:0
BEGIN:VALARM
TRIGGER:-PT15M
ACTION:DISPLAY
DESCRIPTION:Reminder
END:VALARM
END:VEVENT
END:VCALENDAR
