BEGIN:VCALENDAR
PRODID:-//Microsoft Corporation//Outlook 16.0 MIMEDIR//EN
VERSION:2.0
METHOD:REQUEST
X-MS-OLK-FORCEINSPECTOROPEN:TRUE
BEGIN:VTIMEZONE
TZID:GMT Standard Time
BEGIN:STANDARD
DTSTART:16011028T020000
RRULE:FREQ=YEARLY;BYDAY=-1SU;BYMONTH=10
TZOFFSETFROM:+0100
TZOFFSETTO:-0000
END:STANDARD
BEGIN:DAYLIGHT
DTSTART:16010325T010000
RRULE:FREQ=YEARLY;BYDAY=-1SU;BYMONTH=3
TZOFFSETFROM:-0000
TZOFFSETTO:+0100
END:DAYLIGHT
END:VTIMEZONE
BEGIN:VEVENT
ATTENDEE;CN="CUK SOU FL0 Vigo";CUTYPE=RESOURCE;ROLE=NON-PARTICIPANT;RSVP=TR
	UE:mailto:CUK-MR-SOU-FL0-Vigo@carnivalukgroup.com
CLASS:PUBLIC
CREATED:20230707T050450Z
DESCRIPTION:We're screening videos of non-binary lived experiences and invi
	te you to join Athena and Spectrum network members to learn more about non
	-binary people. There's free cupcakes too!\n\n \n\n_______________________
	_________________________________________________________ \n\nMicrosoft Te
	ams meeting \n\nJoin on your computer\, mobile app or room device \n\nClic
	k here to join the meeting <https://teams.microsoft.com/l/meetup-join/19%3
	ameeting_YTUwMjhlZTctZTFmMS00ZTQyLWFlNjMtNTM2MzAzNThkYWFk%40thread.v2/0?co
	ntext=%7b%22Tid%22%3a%229e37b9e9-05de-4906-b089-536f19689074%22%2c%22Oid%2
	2%3a%220cf23d20-f88d-4f80-8be1-41f9d955742f%22%7d>  \n\nMeeting ID: 211 52
	6 089 817 \nPasscode: eZHBqX \n\nDownload Teams <https://www.microsoft.com
	/en-us/microsoft-teams/download-app>  | Join on the web <https://www.micro
	soft.com/microsoft-teams/join-a-meeting> \n\nOr call in (audio only) \n\n+
	44 23 8212 8703\,\,199704123# <tel:+442382128703\,\,199704123#>  \n\n  Uni
	ted Kingdom\, Southampton \n\nPhone Conference ID: 199 704 123# \n\nFind a
	 local number <https://dialin.teams.microsoft.com/a14e03f1-0702-44c4-b5d2-
	06dd54c130b9?id=199704123>  | Reset PIN <https://dialin.teams.microsoft.co
	m/usp/pstnconferencing>  \n\nLearn More <https://aka.ms/JoinTeamsMeeting> 
	 | Meeting options <https://teams.microsoft.com/meetingOptions/?organizerI
	d=0cf23d20-f88d-4f80-8be1-41f9d955742f&tenantId=9e37b9e9-05de-4906-b089-53
	6f19689074&threadId=19_meeting_YTUwMjhlZTctZTFmMS00ZTQyLWFlNjMtNTM2MzAzNTh
	kYWFk@thread.v2&messageId=0&language=en-US>  \n\n_________________________
	_______________________________________________________ \n\n \n\n
DTEND;TZID="GMT Standard Time":20230711T140000
DTSTAMP:20230707T050321Z
DTSTART;TZID="GMT Standard Time":20230711T130000
LAST-MODIFIED:20230707T050450Z
LOCATION:Microsoft Teams Meeting\; CUK SOU FL0 Vigo
ORGANIZER;CN="Kate Johnston":mailto:Kate.Johnston@carnivalukgroup.com
PRIORITY:5
SEQUENCE:1
SUMMARY;LANGUAGE=en-gb:Non-Binary People's Day
TRANSP:OPAQUE
UID:040000008200E00074C5B7101A82E00800000000F073184CC6A9D901000000000000000
	010000000DA8747A56D809C48B6B2661BC5530FAD
X-ALT-DESC;FMTTYPE=text/html:<html xmlns:v="urn:schemas-microsoft-com:vml" 
	xmlns:o="urn:schemas-microsoft-com:office:office" xmlns:w="urn:schemas-mic
	rosoft-com:office:word" xmlns:m="http://schemas.microsoft.com/office/2004/
	12/omml" xmlns="http://www.w3.org/TR/REC-html40"><head><meta name=Generato
	r content="Microsoft Word 15 (filtered medium)"><style><!--\n/* Font Defin
	itions */\n@font-face\n	{font-family:Wingdings\;\n	panose-1:5 0 0 0 0 0 0 
	0 0 0\;}\n@font-face\n	{font-family:"Cambria Math"\;\n	panose-1:2 4 5 3 5 
	4 6 3 2 4\;}\n@font-face\n	{font-family:Calibri\;\n	panose-1:2 15 5 2 2 2 
	4 3 2 4\;}\n@font-face\n	{font-family:"Segoe UI"\;\n	panose-1:2 11 5 2 4 2
	 4 2 2 3\;}\n@font-face\n	{font-family:"Segoe UI Semibold"\;\n	panose-1:2 
	11 7 2 4 2 4 2 2 3\;}\n/* Style Definitions */\np.MsoNormal\, li.MsoNormal
	\, div.MsoNormal\n	{margin:0cm\;\n	font-size:11.0pt\;\n	font-family:"Calib
	ri"\,sans-serif\;\n	mso-fareast-language:EN-US\;}\na:link\, span.MsoHyperl
	ink\n	{mso-style-priority:99\;\n	color:#0563C1\;\n	text-decoration:underli
	ne\;}\nspan.EmailStyle18\n	{mso-style-type:personal-compose\;\n	font-famil
	y:"Calibri"\,sans-serif\;\n	color:windowtext\;}\n.MsoChpDefault\n	{mso-sty
	le-type:export-only\;\n	font-size:10.0pt\;}\n@page WordSection1\n	{size:61
	2.0pt 792.0pt\;\n	margin:72.0pt 72.0pt 72.0pt 72.0pt\;}\ndiv.WordSection1\
	n	{page:WordSection1\;}\n/* List Definitions */\n@list l0\n	{mso-list-id:1
	507792684\;\n	mso-list-template-ids:1435952202\;}\n@list l0:level1\n	{mso-
	level-number-format:bullet\;\n	mso-level-text:\\F0B7\;\n	mso-level-tab-sto
	p:36.0pt\;\n	mso-level-number-position:left\;\n	text-indent:-18.0pt\;\n	ms
	o-ansi-font-size:10.0pt\;\n	font-family:Symbol\;}\n@list l0:level2\n	{mso-
	level-number-format:bullet\;\n	mso-level-text:o\;\n	mso-level-tab-stop:72.
	0pt\;\n	mso-level-number-position:left\;\n	text-indent:-18.0pt\;\n	mso-ans
	i-font-size:10.0pt\;\n	font-family:"Courier New"\;\n	mso-bidi-font-family:
	"Times New Roman"\;}\n@list l0:level3\n	{mso-level-number-format:bullet\;\
	n	mso-level-text:\\F0A7\;\n	mso-level-tab-stop:108.0pt\;\n	mso-level-numbe
	r-position:left\;\n	text-indent:-18.0pt\;\n	mso-ansi-font-size:10.0pt\;\n	
	font-family:Wingdings\;}\n@list l0:level4\n	{mso-level-number-format:bulle
	t\;\n	mso-level-text:\\F0A7\;\n	mso-level-tab-stop:144.0pt\;\n	mso-level-n
	umber-position:left\;\n	text-indent:-18.0pt\;\n	mso-ansi-font-size:10.0pt\
	;\n	font-family:Wingdings\;}\n@list l0:level5\n	{mso-level-number-format:b
	ullet\;\n	mso-level-text:\\F0A7\;\n	mso-level-tab-stop:180.0pt\;\n	mso-lev
	el-number-position:left\;\n	text-indent:-18.0pt\;\n	mso-ansi-font-size:10.
	0pt\;\n	font-family:Wingdings\;}\n@list l0:level6\n	{mso-level-number-form
	at:bullet\;\n	mso-level-text:\\F0A7\;\n	mso-level-tab-stop:216.0pt\;\n	mso
	-level-number-position:left\;\n	text-indent:-18.0pt\;\n	mso-ansi-font-size
	:10.0pt\;\n	font-family:Wingdings\;}\n@list l0:level7\n	{mso-level-number-
	format:bullet\;\n	mso-level-text:\\F0A7\;\n	mso-level-tab-stop:252.0pt\;\n
		mso-level-number-position:left\;\n	text-indent:-18.0pt\;\n	mso-ansi-font-
	size:10.0pt\;\n	font-family:Wingdings\;}\n@list l0:level8\n	{mso-level-num
	ber-format:bullet\;\n	mso-level-text:\\F0A7\;\n	mso-level-tab-stop:288.0pt
	\;\n	mso-level-number-position:left\;\n	text-indent:-18.0pt\;\n	mso-ansi-f
	ont-size:10.0pt\;\n	font-family:Wingdings\;}\n@list l0:level9\n	{mso-level
	-number-format:bullet\;\n	mso-level-text:\\F0A7\;\n	mso-level-tab-stop:324
	.0pt\;\n	mso-level-number-position:left\;\n	text-indent:-18.0pt\;\n	mso-an
	si-font-size:10.0pt\;\n	font-family:Wingdings\;}\nol\n	{margin-bottom:0cm\
	;}\nul\n	{margin-bottom:0cm\;}\n--></style><!--[if gte mso 9]><xml>\n<o:sh
	apedefaults v:ext="edit" spidmax="1026" />\n</xml><![endif]--><!--[if gte 
	mso 9]><xml>\n<o:shapelayout v:ext="edit">\n<o:idmap v:ext="edit" data="1"
	 />\n</o:shapelayout></xml><![endif]--></head><body lang=EN-GB link="#0563
	C1" vlink="#954F72" style='word-wrap:break-word'><div class=WordSection1><
	p class=MsoNormal style='mso-margin-top-alt:auto\;mso-margin-bottom-alt:au
	to'><span style='mso-fareast-language:EN-GB'>We're screening videos of non
	-binary lived experiences and invite you to join Athena and Spectrum netwo
	rk members to learn more about non-binary people. There's free cupcakes to
	o!<o:p></o:p></span></p><p class=MsoNormal><o:p>&nbsp\;</o:p></p><div><p c
	lass=MsoNormal><span style='color:#5F5F5F'>_______________________________
	_________________________________________________</span> <o:p></o:p></p></
	div><div><div style='margin-top:18.0pt\;margin-bottom:15.0pt'><p class=Mso
	Normal><span lang=EN-US style='font-size:18.0pt\;font-family:"Segoe UI"\,s
	ans-serif\;color:#252424'>Microsoft Teams meeting</span><span lang=EN-US s
	tyle='font-family:"Segoe UI"\,sans-serif\;color:#252424'> <o:p></o:p></spa
	n></p></div><div style='margin-bottom:15.0pt'><div><p class=MsoNormal><b><
	span lang=EN-US style='font-size:10.5pt\;font-family:"Segoe UI"\,sans-seri
	f\;color:#252424'>Join on your computer\, mobile app or room device</span>
	</b><b><span lang=EN-US style='font-family:"Segoe UI"\,sans-serif\;color:#
	252424'> <o:p></o:p></span></b></p></div><p class=MsoNormal><span lang=EN-
	US style='font-family:"Segoe UI"\,sans-serif\;color:#252424'><a href="http
	s://teams.microsoft.com/l/meetup-join/19%3ameeting_YTUwMjhlZTctZTFmMS00ZTQ
	yLWFlNjMtNTM2MzAzNThkYWFk%40thread.v2/0?context=%7b%22Tid%22%3a%229e37b9e9
	-05de-4906-b089-536f19689074%22%2c%22Oid%22%3a%220cf23d20-f88d-4f80-8be1-4
	1f9d955742f%22%7d" target="_blank"><span style='font-size:10.5pt\;font-fam
	ily:"Segoe UI Semibold"\,sans-serif\;color:#6264A7'>Click here to join the
	 meeting</span></a> <o:p></o:p></span></p></div><div style='margin-top:15.
	0pt\;margin-bottom:15.0pt'><div style='margin-bottom:3.0pt'><p class=MsoNo
	rmal><span lang=EN-US style='font-size:10.5pt\;font-family:"Segoe UI"\,san
	s-serif\;color:#252424'>Meeting ID: </span><span lang=EN-US style='font-si
	ze:12.0pt\;font-family:"Segoe UI"\,sans-serif\;color:#252424'>211 526 089 
	817</span><span lang=EN-US style='font-size:10.5pt\;font-family:"Segoe UI"
	\,sans-serif\;color:#252424'> </span><span lang=EN-US style='font-family:"
	Segoe UI"\,sans-serif\;color:#252424'><br></span><span lang=EN-US style='f
	ont-size:10.5pt\;font-family:"Segoe UI"\,sans-serif\;color:#252424'>Passco
	de: </span><span lang=EN-US style='font-size:12.0pt\;font-family:"Segoe UI
	"\,sans-serif\;color:#252424'>eZHBqX </span><span lang=EN-US style='font-f
	amily:"Segoe UI"\,sans-serif\;color:#252424'><o:p></o:p></span></p><div><p
	 class=MsoNormal><span lang=EN-US style='font-size:10.5pt\;font-family:"Se
	goe UI"\,sans-serif\;color:#252424'><a href="https://www.microsoft.com/en-
	us/microsoft-teams/download-app" target="_blank"><span style='color:#6264A
	7'>Download Teams</span></a> | <a href="https://www.microsoft.com/microsof
	t-teams/join-a-meeting" target="_blank"><span style='color:#6264A7'>Join o
	n the web</span></a><o:p></o:p></span></p></div></div></div><div style='ma
	rgin-bottom:3.0pt'><div style='margin-bottom:3.0pt'><p class=MsoNormal><b>
	<span lang=EN-US style='font-size:10.5pt\;font-family:"Segoe UI"\,sans-ser
	if\;color:#252424'>Or call in (audio only)</span></b><span lang=EN-US styl
	e='font-family:"Segoe UI"\,sans-serif\;color:#252424'> <o:p></o:p></span><
	/p></div><table class=MsoNormalTable border=0 cellspacing=3 cellpadding=0>
	<tr><td style='padding:.75pt .75pt .75pt .75pt'><p class=MsoNormal><a href
	="tel:+442382128703\,\,199704123# "><span style='font-size:10.5pt\;font-fa
	mily:"Segoe UI"\,sans-serif\;color:#6264A7'>+44 23 8212 8703\,\,199704123#
	</span></a> <o:p></o:p></p></td><td style='padding:.75pt .75pt .75pt .75pt
	'><p class=MsoNormal><span style='font-size:10.5pt\;font-family:"Segoe UI"
	\,sans-serif\;color:#252424'>&nbsp\; United Kingdom\, Southampton </span><
	o:p></o:p></p></td></tr></table></div><p class=MsoNormal><span lang=EN-US 
	style='font-size:10.5pt\;font-family:"Segoe UI"\,sans-serif\;color:#252424
	'>Phone Conference ID: </span><span lang=EN-US style='font-size:12.0pt\;fo
	nt-family:"Segoe UI"\,sans-serif\;color:#252424'>199 704 123# </span><span
	 lang=EN-US style='font-family:"Segoe UI"\,sans-serif\;color:#252424'><o:p
	></o:p></span></p><div style='margin-bottom:15.0pt'><p class=MsoNormal><sp
	an lang=EN-US style='font-family:"Segoe UI"\,sans-serif\;color:#252424'><a
	 href="https://dialin.teams.microsoft.com/a14e03f1-0702-44c4-b5d2-06dd54c1
	30b9?id=199704123" target="_blank"><span style='font-size:10.5pt\;color:#6
	264A7'>Find a local number</span></a> | <a href="https://dialin.teams.micr
	osoft.com/usp/pstnconferencing" target="_blank"><span style='font-size:10.
	5pt\;color:#6264A7'>Reset PIN</span></a> <o:p></o:p></span></p></div><div 
	style='margin-top:15.0pt\;margin-bottom:18.0pt'><p class=MsoNormal><span l
	ang=EN-US style='font-family:"Segoe UI"\,sans-serif\;color:#252424'><a hre
	f="https://aka.ms/JoinTeamsMeeting" target="_blank"><span style='font-size
	:10.5pt\;color:#6264A7'>Learn More</span></a> | <a href="https://teams.mic
	rosoft.com/meetingOptions/?organizerId=0cf23d20-f88d-4f80-8be1-41f9d955742
	f&amp\;tenantId=9e37b9e9-05de-4906-b089-536f19689074&amp\;threadId=19_meet
	ing_YTUwMjhlZTctZTFmMS00ZTQyLWFlNjMtNTM2MzAzNThkYWFk@thread.v2&amp\;messag
	eId=0&amp\;language=en-US" target="_blank"><span style='font-size:10.5pt\;
	color:#6264A7'>Meeting options</span></a> <o:p></o:p></span></p></div></di
	v><div><p class=MsoNormal><span style='color:#5F5F5F'>____________________
	____________________________________________________________</span> <o:p><
	/o:p></p></div><p class=MsoNormal><o:p>&nbsp\;</o:p></p></div></body></htm
	l>
X-MICROSOFT-CDO-BUSYSTATUS:BUSY
X-MICROSOFT-CDO-IMPORTANCE:1
X-MICROSOFT-DISALLOW-COUNTER:FALSE
X-MS-OLK-APPTLASTSEQUENCE:1
X-MS-OLK-APPTSEQTIME:20230707T050321Z
X-MS-OLK-AUTOFILLLOCATION:FALSE
X-MS-OLK-CONFTYPE:0
BEGIN:VALARM
TRIGGER:-PT15M
ACTION:DISPLAY
DESCRIPTION:Reminder
END:VALARM
END:VEVENT
END:VCALENDAR
