BEGIN:VCALENDAR
PRODID:-//Microsoft Corporation//Outlook 16.0 MIMEDIR//EN
VERSION:2.0
METHOD:REQUEST
X-MS-OLK-FORCEINSPECTOROPEN:TRUE
BEGIN:VTIMEZONE
TZID:GMT Standard Time
BEGIN:STANDARD
DTSTART:16011028T020000
RRULE:FREQ=YEARLY;BYDAY=-1SU;BYMONTH=10
TZOFFSETFROM:+0100
TZOFFSETTO:-0000
END:STANDARD
BEGIN:DAYLIGHT
DTSTART:16010325T010000
RRULE:FREQ=YEARLY;BYDAY=-1SU;BYMONTH=3
TZOFFSETFROM:-0000
TZOFFSETTO:+0100
END:DAYLIGHT
END:VTIMEZONE
BEGIN:VEVENT
ATTENDEE;CN="Laura Jackson";RSVP=TRUE:mailto:Laura.Jackson@carnivalukgroup.
	com
CLASS:PUBLIC
CREATED:20230612T122319Z
DESCRIPTION:Join us for lunch and the chance to recognise our Reserves and 
	find out more about the CUK Military\, Veterans & Partners (MVP) Community
	. \n\n \n\n \n\n
DTEND;TZID="GMT Standard Time":20230622T130000
DTSTAMP:20230612T122243Z
DTSTART;TZID="GMT Standard Time":20230622T120000
LAST-MODIFIED:20230612T122319Z
LOCATION:Rotterdam
ORGANIZER;CN="CUK - Internal Comms/BPT/CarnivalUK":mailto:Internal.Comms@ca
	rnivalukgroup.com
PRIORITY:5
SEQUENCE:0
SUMMARY:MVP Community & Reserves Day Event
TRANSP:OPAQUE
UID:040000008200E00074C5B7101A82E0080000000080BA00D0309DD901000000000000000
	010000000989E7F211C56AF44BD672C1DCC69AD40
X-ALT-DESC;FMTTYPE=text/html:<html xmlns:v="urn:schemas-microsoft-com:vml" 
	xmlns:o="urn:schemas-microsoft-com:office:office" xmlns:w="urn:schemas-mic
	rosoft-com:office:word" xmlns:m="http://schemas.microsoft.com/office/2004/
	12/omml" xmlns="http://www.w3.org/TR/REC-html40"><head>\n<meta name="Gener
	ator" content="Microsoft Word 15 (filtered medium)"><style><!--\n/* Font D
	efinitions */\n@font-face\n	{font-family:"Cambria Math"\;\n	panose-1:2 4 5
	 3 5 4 6 3 2 4\;}\n@font-face\n	{font-family:Calibri\;\n	panose-1:2 15 5 2
	 2 2 4 3 2 4\;}\n@font-face\n	{font-family:Corbel\;\n	panose-1:2 11 5 3 2 
	2 4 2 2 4\;}\n/* Style Definitions */\np.MsoNormal\, li.MsoNormal\, div.Ms
	oNormal\n	{margin:0cm\;\n	font-size:11.0pt\;\n	font-family:"Calibri"\,sans
	-serif\;\n	mso-fareast-language:EN-US\;}\nspan.EmailStyle18\n	{mso-style-t
	ype:personal-compose\;\n	font-family:"Calibri"\,sans-serif\;\n	color:windo
	wtext\;}\n.MsoChpDefault\n	{mso-style-type:export-only\;\n	font-size:10.0p
	t\;}\n@page WordSection1\n	{size:612.0pt 792.0pt\;\n	margin:72.0pt 72.0pt 
	72.0pt 72.0pt\;}\ndiv.WordSection1\n	{page:WordSection1\;}\n--></style><!-
	-[if gte mso 9]><xml>\n<o:shapedefaults v:ext="edit" spidmax="1026" />\n</
	xml><![endif]--><!--[if gte mso 9]><xml>\n<o:shapelayout v:ext="edit">\n<o
	:idmap v:ext="edit" data="1" />\n</o:shapelayout></xml><![endif]--></head>
	<body lang="EN-GB" link="#0563C1" vlink="#954F72" style="word-wrap:break-w
	ord"><div class="WordSection1"><p class="MsoNormal"><span style="font-fami
	ly:&quot\;Corbel&quot\;\,sans-serif">Join us for lunch and the chance to r
	ecognise our Reserves and find out more about the CUK Military\, Veterans 
	&amp\; Partners (MVP) Community. <o:p></o:p></span></p><p class="MsoNormal
	"><span style="font-family:&quot\;Corbel&quot\;\,sans-serif"><o:p>&nbsp\;<
	/o:p></span></p><p class="MsoNormal"><o:p>&nbsp\;</o:p></p></div></body></
	html>
X-MICROSOFT-CDO-BUSYSTATUS:BUSY
X-MICROSOFT-CDO-IMPORTANCE:1
X-MICROSOFT-CDO-INTENDEDSTATUS:BUSY
X-MICROSOFT-DISALLOW-COUNTER:FALSE
X-MS-OLK-APPTLASTSEQUENCE:0
BEGIN:VALARM
TRIGGER:-PT15M
ACTION:DISPLAY
DESCRIPTION:Reminder
END:VALARM
END:VEVENT
END:VCALENDAR
