BEGIN:VCALENDAR
PRODID:-//Microsoft Corporation//Outlook 16.0 MIMEDIR//EN
VERSION:2.0
METHOD:REQUEST
X-MS-OLK-FORCEINSPECTOROPEN:TRUE
BEGIN:VTIMEZONE
TZID:GMT Standard Time
BEGIN:STANDARD
DTSTART:16011028T020000
RRULE:FREQ=YEARLY;BYDAY=-1SU;BYMONTH=10
TZOFFSETFROM:+0100
TZOFFSETTO:-0000
END:STANDARD
BEGIN:DAYLIGHT
DTSTART:16010325T010000
RRULE:FREQ=YEARLY;BYDAY=-1SU;BYMONTH=3
TZOFFSETFROM:-0000
TZOFFSETTO:+0100
END:DAYLIGHT
END:VTIMEZONE
BEGIN:VEVENT
ATTENDEE;CN="Laura Jackson";RSVP=TRUE:mailto:Laura.Jackson@carnivalukgroup.
	com
CLASS:PUBLIC
CREATED:20230406T110843Z
DESCRIPTION:  \n\n
DTEND;TZID="GMT Standard Time":20230425T120000
DTSTAMP:20230406T105841Z
DTSTART;TZID="GMT Standard Time":20230425T110000
LAST-MODIFIED:20230406T110843Z
LOCATION:Carnival House Atrium
ORGANIZER;CN="Paul Wiggins":mailto:Paul.Wiggins@carnivalukgroup.com
PRIORITY:5
SEQUENCE:0
SUMMARY:Think Different! Atrium Event
TRANSP:OPAQUE
UID:040000008200E00074C5B7101A82E00800000000E040C5017F68D901000000000000000
	010000000E3D525FFB2720B47A4A5FD4C0F833800
X-ALT-DESC;FMTTYPE=text/html:<html xmlns:v="urn:schemas-microsoft-com:vml" 
	xmlns:o="urn:schemas-microsoft-com:office:office" xmlns:w="urn:schemas-mic
	rosoft-com:office:word" xmlns:m="http://schemas.microsoft.com/office/2004/
	12/omml" xmlns="http://www.w3.org/TR/REC-html40"><head>\n<meta name="Gener
	ator" content="Microsoft Word 15 (filtered medium)"><style><!--\n/* Font D
	efinitions */\n@font-face\n	{font-family:"Cambria Math"\;\n	panose-1:2 4 5
	 3 5 4 6 3 2 4\;}\n@font-face\n	{font-family:Calibri\;\n	panose-1:2 15 5 2
	 2 2 4 3 2 4\;}\n/* Style Definitions */\nspan.EmailStyle18\n	{mso-style-t
	ype:personal-compose\;}\n.MsoChpDefault\n	{mso-style-type:export-only\;\n	
	font-size:10.0pt\;}\n@page WordSection1\n	{size:612.0pt 792.0pt\;\n	margin
	:72.0pt 72.0pt 72.0pt 72.0pt\;}\ndiv.WordSection1\n	{page:WordSection1\;}\
	n--></style><!--[if gte mso 9]><xml>\n<o:shapedefaults v:ext="edit" spidma
	x="1026" />\n</xml><![endif]--><!--[if gte mso 9]><xml>\n<o:shapelayout v:
	ext="edit">\n<o:idmap v:ext="edit" data="1" />\n</o:shapelayout></xml><![e
	ndif]--></head><body lang="EN-GB" link="blue" vlink="purple" style="word-w
	rap:break-word"><div class="WordSection1"><p>&nbsp\; <o:p></o:p></p></div>
	</body></html>
X-MICROSOFT-CDO-BUSYSTATUS:BUSY
X-MICROSOFT-CDO-IMPORTANCE:1
X-MICROSOFT-CDO-INTENDEDSTATUS:BUSY
X-MICROSOFT-DISALLOW-COUNTER:FALSE
BEGIN:VALARM
TRIGGER:-PT15M
ACTION:DISPLAY
DESCRIPTION:Reminder
END:VALARM
END:VEVENT
END:VCALENDAR
