BEGIN:VCALENDAR
PRODID:-//Microsoft Corporation//Outlook 16.0 MIMEDIR//EN
VERSION:2.0
METHOD:REQUEST
X-MS-OLK-FORCEINSPECTOROPEN:TRUE
BEGIN:VTIMEZONE
TZID:GMT Standard Time
BEGIN:STANDARD
DTSTART:16011028T020000
RRULE:FREQ=YEARLY;BYDAY=-1SU;BYMONTH=10
TZOFFSETFROM:+0100
TZOFFSETTO:-0000
END:STANDARD
BEGIN:DAYLIGHT
DTSTART:16010325T010000
RRULE:FREQ=YEARLY;BYDAY=-1SU;BYMONTH=3
TZOFFSETFROM:-0000
TZOFFSETTO:+0100
END:DAYLIGHT
END:VTIMEZONE
BEGIN:VEVENT
ATTENDEE;CN="Chelsea Hughes";RSVP=TRUE:mailto:Chelsea.Hughes@carnivalukgrou
	p.com
ATTENDEE;CN="Sola Froude";RSVP=TRUE:mailto:Sola.Froude@carnivalukgroup.com
ATTENDEE;CN="Laura Jackson";RSVP=TRUE:mailto:Laura.Jackson@carnivalukgroup.
	com
CLASS:PUBLIC
CREATED:20221005T111205Z
DESCRIPTION:Join Athena and The Princess Trust for a Brilliant Breakfast an
	d help change a young woman's life.\n\n___________________________________
	_____________________________________________ \n\nMicrosoft Teams meeting 
	\n\nJoin on your computer\, mobile app or room device \n\nClick here to jo
	in the meeting <https://teams.microsoft.com/l/meetup-join/19%3ameeting_NmM
	3ODQ5YzItZTU0ZS00ZTdjLWJiNzEtMGIxM2JjZDFhMTEy%40thread.v2/0?context=%7b%22
	Tid%22%3a%229e37b9e9-05de-4906-b089-536f19689074%22%2c%22Oid%22%3a%22ddda2
	b7b-a3e8-4992-b442-9b94d8a8aca2%22%7d>  \n\nMeeting ID: 272 935 068 097 \n
	Passcode: BCi53b \n\nDownload Teams <https://nam02.safelinks.protection.ou
	tlook.com/?url=https%3A%2F%2Fwww.microsoft.com%2Fen-us%2Fmicrosoft-teams%2
	Fdownload-app&data=05%7C01%7CLaura.Jackson%40carnivalukgroup.com%7C6ca54d2
	877334909782308daa61b2808%7C9e37b9e905de4906b089536f19689074%7C0%7C0%7C638
	004932823102607%7CUnknown%7CTWFpbGZsb3d8eyJWIjoiMC4wLjAwMDAiLCJQIjoiV2luMz
	IiLCJBTiI6Ik1haWwiLCJXVCI6Mn0%3D%7C3000%7C%7C%7C&sdata=nzMVSbTZTG8%2BlHeiB
	%2F5VnlKlh72cVhb1au2e8OndyjU%3D&reserved=0>  | Join on the web <https://na
	m02.safelinks.protection.outlook.com/?url=https%3A%2F%2Fwww.microsoft.com%
	2Fmicrosoft-teams%2Fjoin-a-meeting&data=05%7C01%7CLaura.Jackson%40carnival
	ukgroup.com%7C6ca54d2877334909782308daa61b2808%7C9e37b9e905de4906b089536f1
	9689074%7C0%7C0%7C638004932823102607%7CUnknown%7CTWFpbGZsb3d8eyJWIjoiMC4wL
	jAwMDAiLCJQIjoiV2luMzIiLCJBTiI6Ik1haWwiLCJXVCI6Mn0%3D%7C3000%7C%7C%7C&sdat
	a=miSTE48%2BpufIT8yiCyT36%2BDx%2Bqur76XXFJDcTqJKc8M%3D&reserved=0> \n\nOr 
	call in (audio only) \n\n+44 23 8212 8703\,\,968257002# <tel:+442382128703
	\,\,968257002#>  \n\n  United Kingdom\, Southampton \n\nPhone Conference I
	D: 968 257 002# \n\nFind a local number <https://dialin.teams.microsoft.co
	m/a14e03f1-0702-44c4-b5d2-06dd54c130b9?id=968257002>  | Reset PIN <https:/
	/dialin.teams.microsoft.com/usp/pstnconferencing>  \n\nLearn More <https:/
	/nam02.safelinks.protection.outlook.com/?url=https%3A%2F%2Faka.ms%2FJoinTe
	amsMeeting&data=05%7C01%7CLaura.Jackson%40carnivalukgroup.com%7C6ca54d2877
	334909782308daa61b2808%7C9e37b9e905de4906b089536f19689074%7C0%7C0%7C638004
	932823102607%7CUnknown%7CTWFpbGZsb3d8eyJWIjoiMC4wLjAwMDAiLCJQIjoiV2luMzIiL
	CJBTiI6Ik1haWwiLCJXVCI6Mn0%3D%7C3000%7C%7C%7C&sdata=WKIPw3Sc9j20hNMf%2BboO
	peu0TUJOZ4dhxfRDQ536Ay0%3D&reserved=0>  | Meeting options <https://teams.m
	icrosoft.com/meetingOptions/?organizerId=ddda2b7b-a3e8-4992-b442-9b94d8a8a
	ca2&tenantId=9e37b9e9-05de-4906-b089-536f19689074&threadId=19_meeting_NmM3
	ODQ5YzItZTU0ZS00ZTdjLWJiNzEtMGIxM2JjZDFhMTEy@thread.v2&messageId=0&languag
	e=en-US>  \n\n____________________________________________________________
	____________________ \n\n \n\n
DTEND;TZID="GMT Standard Time":20221014T110000
DTSTAMP:20221004T151436Z
DTSTART;TZID="GMT Standard Time":20221014T100000
LAST-MODIFIED:20221005T111205Z
LOCATION:Microsoft Teams Meeting
ORGANIZER;CN="Chelsea Hughes":mailto:Chelsea.Hughes@carnivalukgroup.com
PRIORITY:5
SEQUENCE:1
SUMMARY:The Brilliant Breakfast 
TRANSP:OPAQUE
UID:040000008200E00074C5B7101A82E00800000000D0E97314F0D4D801000000000000000
	010000000D3A8982FD831DC47B3A30A2FD045CB77
X-ALT-DESC;FMTTYPE=text/html:<html xmlns:v="urn:schemas-microsoft-com:vml" 
	xmlns:o="urn:schemas-microsoft-com:office:office" xmlns:w="urn:schemas-mic
	rosoft-com:office:word" xmlns:m="http://schemas.microsoft.com/office/2004/
	12/omml" xmlns="http://www.w3.org/TR/REC-html40"><head>\n<meta name="Gener
	ator" content="Microsoft Word 15 (filtered medium)"><style><!--\n/* Font D
	efinitions */\n@font-face\n	{font-family:"Cambria Math"\;\n	panose-1:2 4 5
	 3 5 4 6 3 2 4\;}\n@font-face\n	{font-family:Calibri\;\n	panose-1:2 15 5 2
	 2 2 4 3 2 4\;}\n@font-face\n	{font-family:"Segoe UI"\;\n	panose-1:2 11 5 
	2 4 2 4 2 2 3\;}\n@font-face\n	{font-family:"Segoe UI Semibold"\;\n	panose
	-1:2 11 7 2 4 2 4 2 2 3\;}\n/* Style Definitions */\np.MsoNormal\, li.MsoN
	ormal\, div.MsoNormal\n	{margin:0cm\;\n	font-size:11.0pt\;\n	font-family:"
	Calibri"\,sans-serif\;\n	mso-fareast-language:EN-US\;}\na:link\, span.MsoH
	yperlink\n	{mso-style-priority:99\;\n	color:#0563C1\;\n	text-decoration:un
	derline\;}\nspan.EmailStyle18\n	{mso-style-type:personal-compose\;\n	font-
	family:"Calibri"\,sans-serif\;\n	color:windowtext\;\n	font-weight:normal\;
	\n	font-style:normal\;}\n.MsoChpDefault\n	{mso-style-type:export-only\;\n	
	font-size:10.0pt\;}\n@page WordSection1\n	{size:612.0pt 792.0pt\;\n	margin
	:72.0pt 72.0pt 72.0pt 72.0pt\;}\ndiv.WordSection1\n	{page:WordSection1\;}\
	n--></style><!--[if gte mso 9]><xml>\n<o:shapedefaults v:ext="edit" spidma
	x="1026" />\n</xml><![endif]--><!--[if gte mso 9]><xml>\n<o:shapelayout v:
	ext="edit">\n<o:idmap v:ext="edit" data="1" />\n</o:shapelayout></xml><![e
	ndif]--></head><body lang="EN-GB" link="#0563C1" vlink="#954F72" style="wo
	rd-wrap:break-word"><div class="WordSection1"><p class="MsoNormal">Join At
	hena and The Princess Trust for a Brilliant Breakfast and help change a yo
	ung woman's life.<o:p></o:p></p><div><p class="MsoNormal"><span style="col
	or:#5F5F5F">______________________________________________________________
	__________________</span> <o:p></o:p></p></div><div><div style="margin-top
	:18.0pt\;margin-bottom:15.0pt"><p class="MsoNormal"><span lang="EN-US" sty
	le="font-size:18.0pt\;font-family:&quot\;Segoe UI&quot\;\,sans-serif\;colo
	r:#252424">Microsoft Teams meeting</span><span lang="EN-US" style="font-fa
	mily:&quot\;Segoe UI&quot\;\,sans-serif\;color:#252424"> <o:p></o:p></span
	></p></div><div style="margin-bottom:15.0pt"><div><p class="MsoNormal"><b>
	<span lang="EN-US" style="font-size:10.5pt\;font-family:&quot\;Segoe UI&qu
	ot\;\,sans-serif\;color:#252424">Join on your computer\, mobile app or roo
	m device</span></b><b><span lang="EN-US" style="font-family:&quot\;Segoe U
	I&quot\;\,sans-serif\;color:#252424"> <o:p></o:p></span></b></p></div><p c
	lass="MsoNormal"><span lang="EN-US" style="font-family:&quot\;Segoe UI&quo
	t\;\,sans-serif\;color:#252424"><a href="https://teams.microsoft.com/l/mee
	tup-join/19%3ameeting_NmM3ODQ5YzItZTU0ZS00ZTdjLWJiNzEtMGIxM2JjZDFhMTEy%40t
	hread.v2/0?context=%7b%22Tid%22%3a%229e37b9e9-05de-4906-b089-536f19689074%
	22%2c%22Oid%22%3a%22ddda2b7b-a3e8-4992-b442-9b94d8a8aca2%22%7d" target="_b
	lank"><span style="font-size:10.5pt\;font-family:&quot\;Segoe UI Semibold&
	quot\;\,sans-serif\;color:#6264A7">Click here to join the meeting</span></
	a> <o:p></o:p></span></p></div><div style="margin-top:15.0pt\;margin-botto
	m:15.0pt"><div style="margin-bottom:3.0pt"><p class="MsoNormal"><span lang
	="EN-US" style="font-size:10.5pt\;font-family:&quot\;Segoe UI&quot\;\,sans
	-serif\;color:#252424">Meeting ID: </span><span lang="EN-US" style="font-s
	ize:12.0pt\;font-family:&quot\;Segoe UI&quot\;\,sans-serif\;color:#252424"
	>272 935 068 097</span><span lang="EN-US" style="font-size:10.5pt\;font-fa
	mily:&quot\;Segoe UI&quot\;\,sans-serif\;color:#252424"> </span><span lang
	="EN-US" style="font-family:&quot\;Segoe UI&quot\;\,sans-serif\;color:#252
	424"><br></span><span lang="EN-US" style="font-size:10.5pt\;font-family:&q
	uot\;Segoe UI&quot\;\,sans-serif\;color:#252424">Passcode: </span><span la
	ng="EN-US" style="font-size:12.0pt\;font-family:&quot\;Segoe UI&quot\;\,sa
	ns-serif\;color:#252424">BCi53b </span><span lang="EN-US" style="font-fami
	ly:&quot\;Segoe UI&quot\;\,sans-serif\;color:#252424"><o:p></o:p></span></
	p><div><p class="MsoNormal"><span lang="EN-US" style="font-size:10.5pt\;fo
	nt-family:&quot\;Segoe UI&quot\;\,sans-serif\;color:#252424"><a href="http
	s://nam02.safelinks.protection.outlook.com/?url=https%3A%2F%2Fwww.microsof
	t.com%2Fen-us%2Fmicrosoft-teams%2Fdownload-app&amp\;data=05%7C01%7CLaura.J
	ackson%40carnivalukgroup.com%7C6ca54d2877334909782308daa61b2808%7C9e37b9e9
	05de4906b089536f19689074%7C0%7C0%7C638004932823102607%7CUnknown%7CTWFpbGZs
	b3d8eyJWIjoiMC4wLjAwMDAiLCJQIjoiV2luMzIiLCJBTiI6Ik1haWwiLCJXVCI6Mn0%3D%7C3
	000%7C%7C%7C&amp\;sdata=nzMVSbTZTG8%2BlHeiB%2F5VnlKlh72cVhb1au2e8OndyjU%3D
	&amp\;reserved=0" originalsrc="https://www.microsoft.com/en-us/microsoft-t
	eams/download-app" shash="NXCLKljrKOMaV8TPH9EPI+jOhfgZS0EEWdhvLyXmDx8U/Ayb
	uSh1AVWPyQz/W6L9WDyA6KImjAxDVcViqBHEgUjVNGfYzlVHffS0Kn4Kvcuvg+iGNxgRZzwxmh
	Tv3+0QmBFu0nK2XR/hUi854KUr4XIwO4ktaVTqxARW2+xO7AE=" target="_blank"><span 
	style="color:#6264A7">Download Teams</span></a> | <a href="https://nam02.s
	afelinks.protection.outlook.com/?url=https%3A%2F%2Fwww.microsoft.com%2Fmic
	rosoft-teams%2Fjoin-a-meeting&amp\;data=05%7C01%7CLaura.Jackson%40carnival
	ukgroup.com%7C6ca54d2877334909782308daa61b2808%7C9e37b9e905de4906b089536f1
	9689074%7C0%7C0%7C638004932823102607%7CUnknown%7CTWFpbGZsb3d8eyJWIjoiMC4wL
	jAwMDAiLCJQIjoiV2luMzIiLCJBTiI6Ik1haWwiLCJXVCI6Mn0%3D%7C3000%7C%7C%7C&amp\
	;sdata=miSTE48%2BpufIT8yiCyT36%2BDx%2Bqur76XXFJDcTqJKc8M%3D&amp\;reserved=
	0" originalsrc="https://www.microsoft.com/microsoft-teams/join-a-meeting" 
	shash="Kb6TKYz69NYJ8hmUu5PpVoTBWa3FgJmOEoB2cDj8S1DTshAtTolsk6EhYxMS7hMXUPS
	Z2o23vGsLZCe10oJpZJoFa/mUhOuoDNEWC9CgmHUFRe5SyilV5yurGwWybL/b3hr2fDrCm9WLM
	B3+UXKwTz5QgVTVgAK3HbTddjo2f0g=" target="_blank"><span style="color:#6264A
	7">Join on the web</span></a><o:p></o:p></span></p></div></div></div><div 
	style="margin-bottom:3.0pt"><div style="margin-bottom:3.0pt"><p class="Mso
	Normal"><b><span lang="EN-US" style="font-size:10.5pt\;font-family:&quot\;
	Segoe UI&quot\;\,sans-serif\;color:#252424">Or call in (audio only)</span>
	</b><span lang="EN-US" style="font-family:&quot\;Segoe UI&quot\;\,sans-ser
	if\;color:#252424"> <o:p></o:p></span></p></div><table class="MsoNormalTab
	le" border="0" cellspacing="3" cellpadding="0"><tr><td style="padding:.75p
	t .75pt .75pt .75pt"><p class="MsoNormal"><a href="tel:+442382128703\,\,96
	8257002# "><span style="font-size:10.5pt\;font-family:&quot\;Segoe UI&quot
	\;\,sans-serif\;color:#6264A7">+44 23 8212 8703\,\,968257002#</span></a> <
	o:p></o:p></p></td><td style="padding:.75pt .75pt .75pt .75pt"><p class="M
	soNormal"><span style="font-size:10.5pt\;font-family:&quot\;Segoe UI&quot\
	;\,sans-serif\;color:#252424">&nbsp\; United Kingdom\, Southampton </span>
	<o:p></o:p></p></td></tr></table></div><p class="MsoNormal"><span lang="EN
	-US" style="font-size:10.5pt\;font-family:&quot\;Segoe UI&quot\;\,sans-ser
	if\;color:#252424">Phone Conference ID: </span><span lang="EN-US" style="f
	ont-size:12.0pt\;font-family:&quot\;Segoe UI&quot\;\,sans-serif\;color:#25
	2424">968 257 002# </span><span lang="EN-US" style="font-family:&quot\;Seg
	oe UI&quot\;\,sans-serif\;color:#252424"><o:p></o:p></span></p><div style=
	"margin-bottom:15.0pt"><p class="MsoNormal"><span lang="EN-US" style="font
	-family:&quot\;Segoe UI&quot\;\,sans-serif\;color:#252424"><a href="https:
	//dialin.teams.microsoft.com/a14e03f1-0702-44c4-b5d2-06dd54c130b9?id=96825
	7002" target="_blank"><span style="font-size:10.5pt\;color:#6264A7">Find a
	 local number</span></a> | <a href="https://dialin.teams.microsoft.com/usp
	/pstnconferencing" target="_blank"><span style="font-size:10.5pt\;color:#6
	264A7">Reset PIN</span></a> <o:p></o:p></span></p></div><div style="margin
	-top:15.0pt\;margin-bottom:18.0pt"><p class="MsoNormal"><span lang="EN-US"
	 style="font-family:&quot\;Segoe UI&quot\;\,sans-serif\;color:#252424"><a 
	href="https://nam02.safelinks.protection.outlook.com/?url=https%3A%2F%2Fak
	a.ms%2FJoinTeamsMeeting&amp\;data=05%7C01%7CLaura.Jackson%40carnivalukgrou
	p.com%7C6ca54d2877334909782308daa61b2808%7C9e37b9e905de4906b089536f1968907
	4%7C0%7C0%7C638004932823102607%7CUnknown%7CTWFpbGZsb3d8eyJWIjoiMC4wLjAwMDA
	iLCJQIjoiV2luMzIiLCJBTiI6Ik1haWwiLCJXVCI6Mn0%3D%7C3000%7C%7C%7C&amp\;sdata
	=WKIPw3Sc9j20hNMf%2BboOpeu0TUJOZ4dhxfRDQ536Ay0%3D&amp\;reserved=0" origina
	lsrc="https://aka.ms/JoinTeamsMeeting" shash="XKUph/CdYonwB/Xip8i4dpvwNpNT
	UvNAfyoiLLJHmv+6Ybl1VgUN49G/tw9YCbbbNTJETHYDx/cbQsUoEDkhA3ZS/N8Cp1lbaL/bOM
	mp1MwlsF68sqEA/NVUJGWYoxZrsmcaphcE2VWU1Fohp/b8pL0zzpYGm4AOdN3FAUCACGQ=" ta
	rget="_blank"><span style="font-size:10.5pt\;color:#6264A7">Learn More</sp
	an></a> | <a href="https://teams.microsoft.com/meetingOptions/?organizerId
	=ddda2b7b-a3e8-4992-b442-9b94d8a8aca2&amp\;tenantId=9e37b9e9-05de-4906-b08
	9-536f19689074&amp\;threadId=19_meeting_NmM3ODQ5YzItZTU0ZS00ZTdjLWJiNzEtMG
	IxM2JjZDFhMTEy@thread.v2&amp\;messageId=0&amp\;language=en-US" target="_bl
	ank"><span style="font-size:10.5pt\;color:#6264A7">Meeting options</span><
	/a> <o:p></o:p></span></p></div></div><div><p class="MsoNormal"><span styl
	e="color:#5F5F5F">________________________________________________________
	________________________</span> <o:p></o:p></p></div><p class="MsoNormal">
	<o:p>&nbsp\;</o:p></p></div></body></html>
X-MICROSOFT-CDO-BUSYSTATUS:BUSY
X-MICROSOFT-CDO-IMPORTANCE:1
X-MICROSOFT-CDO-INTENDEDSTATUS:BUSY
X-MICROSOFT-DISALLOW-COUNTER:FALSE
X-MS-OLK-APPTSEQTIME:20220930T161603Z
BEGIN:VALARM
TRIGGER:-PT15M
ACTION:DISPLAY
DESCRIPTION:Reminder
END:VALARM
END:VEVENT
END:VCALENDAR
